{"text_format":"3","workbook":"xlsx","n_sheets":3,"sheets":["Übersicht","Einzelräume","Berechnung"],"read":"whole","date_system":"1900"}

{"sheet":"Übersicht","index":0,"n_rows":30,"n_cols":8,"rows_kept":30,"merged":[[0,0,0,1],[9,0,9,1]]}
["Homematic IP Projekt"]
[]
["Name:",null,"Sicherheit:","Ja","Cloud LAN:","Ja"]
["Straße, Nr:",null,"Raumklima:","Ja","Cloud WLAN:","Nein"]
["PLZ, Ort:",null,"Brand:","Ja","Computer:","Nein"]
["Telefon:",null,"Verdunkelung:","Ja"]
["Email:",null,"Licht/Steckdose:","Ja",null,null,"Kosten:",{"$f":"SUM(Berechnung!I32:I34)","v":{"v":169.9,"d":"169.90 €"}}]
[]
[]
["Räume:",null,"Sicherheit","Raumklima","Brand","Verdunkelung","Steckdosen","Licht"]
["Raum 1",null,{"$f":"IF(AND($D$3=\"Ja\",B11<>\"\"),\"X\",\"\")","v":""},{"$f":"IF(AND($D$4=\"Ja\",B11<>\"\"),\"X\",\"\")","v":""},{"$f":"IF(AND($D$5=\"Ja\",B11<>\"\"),\"X\",\"\")","v":""},{"$f":"IF(AND($D$6=\"Ja\",B11<>\"\"),\"X\",\"\")","v":""},{"$f":"IF(AND($D$7=\"Ja\",B11<>\"\"),\"X\",\"\")","v":""},{"$f":"IF(AND($D$7=\"Ja\",B11<>\"\"),\"X\",\"\")","v":""}]
["Raum 2",null,{"$f":"IF(AND($D$3=\"Ja\",B12<>\"\"),\"X\",\"\")","v":""},{"$f":"IF(AND($D$4=\"Ja\",B12<>\"\"),\"X\",\"\")","v":""},{"$f":"IF(AND($D$5=\"Ja\",B12<>\"\"),\"X\",\"\")","v":""},{"$f":"IF(AND($D$6=\"Ja\",B12<>\"\"),\"X\",\"\")","v":""},{"$f":"IF(AND($D$7=\"Ja\",B12<>\"\"),\"X\",\"\")","v":""},{"$f":"IF(AND($D$7=\"Ja\",B12<>\"\"),\"X\",\"\")","v":""}]
["Raum 3",null,{"$f":"IF(AND($D$3=\"Ja\",B13<>\"\"),\"X\",\"\")","v":""},"","","","",""]
["Raum 4",null,{"$f":"IF(AND($D$3=\"Ja\",B14<>\"\"),\"X\",\"\")","v":""},"","","","",""]
["Raum 5",null,{"$f":"IF(AND($D$3=\"Ja\",B15<>\"\"),\"X\",\"\")","v":""},"","","","",""]
["Raum 6",null,{"$f":"IF(AND($D$3=\"Ja\",B16<>\"\"),\"X\",\"\")","v":""},"","","","",""]
["Raum 7",null,{"$f":"IF(AND($D$3=\"Ja\",B17<>\"\"),\"X\",\"\")","v":""},"","","","",""]
["Raum 8",null,{"$f":"IF(AND($D$3=\"Ja\",B18<>\"\"),\"X\",\"\")","v":""},"","","","",""]
["Raum 9",null,{"$f":"IF(AND($D$3=\"Ja\",B19<>\"\"),\"X\",\"\")","v":""},"","","","",""]
["Raum 10",null,{"$f":"IF(AND($D$3=\"Ja\",B20<>\"\"),\"X\",\"\")","v":""},"","","","",""]
["Raum 11",null,{"$f":"IF(AND($D$3=\"Ja\",B21<>\"\"),\"X\",\"\")","v":""},"","","","",""]
["Raum 12",null,{"$f":"IF(AND($D$3=\"Ja\",B22<>\"\"),\"X\",\"\")","v":""},"","","","",""]
["Raum 13",null,{"$f":"IF(AND($D$3=\"Ja\",B23<>\"\"),\"X\",\"\")","v":""},"","","","",""]
["Raum 14",null,{"$f":"IF(AND($D$3=\"Ja\",B24<>\"\"),\"X\",\"\")","v":""},"","","","",""]
["Raum 15",null,{"$f":"IF(AND($D$3=\"Ja\",B25<>\"\"),\"X\",\"\")","v":""},"","","","",""]
["Raum 16",null,{"$f":"IF(AND($D$3=\"Ja\",B26<>\"\"),\"X\",\"\")","v":""},"","","","",""]
["Raum 17",null,{"$f":"IF(AND($D$3=\"Ja\",B27<>\"\"),\"X\",\"\")","v":""},"","","","",""]
["Raum 18",null,{"$f":"IF(AND($D$3=\"Ja\",B28<>\"\"),\"X\",\"\")","v":""},"","","","",""]
["Raum 19",null,{"$f":"IF(AND($D$3=\"Ja\",B29<>\"\"),\"X\",\"\")","v":""},"","","","",""]
["Raum 20",null,{"$f":"IF(AND($D$3=\"Ja\",B30<>\"\"),\"X\",\"\")","v":""},"","","","",""]

{"sheet":"Einzelräume","index":1,"n_rows":30,"n_cols":8,"rows_kept":30}
["Homematic IP Projekt"]
[]
["Name:","Holube"]
["Straße, Nr:","Am Hollmoor 23"]
["PLZ, Ort:","29633 Munster"]
["Telefon:","05192/886526"]
["Email:","holube@freenet.de"]
[]
[]
["Räume:","Fenster / Tür","Heizkörper","A >16m² / verbaut","Rauchmelder","Rollo","Steckdosen","Licht"]
[{"$f":"IF(Übersicht!B11=0,\"\",Übersicht!B11)","v":""},{"$f":"IF(Übersicht!C11=\"X\",\"Anzahl?\",0)","v":0},{"$f":"IF(Übersicht!D11=\"X\",\"Anzahl?\",0)","v":0},{"$f":"IF(AND(ISNUMBER(C11),C11>1),\"JA\",\"NEIN\")","v":"NEIN"},{"$f":"IF(Übersicht!E11=\"X\",\"Anzahl?\",0)","v":0},{"$f":"IF(Übersicht!F11=\"X\",\"Anzahl?\",0)","v":0},{"$f":"IF(Übersicht!G11=\"X\",\"Anzahl?\",0)","v":0},{"$f":"IF(Übersicht!H11=\"X\",\"Anzahl?\",0)","v":0}]
[{"$f":"IF(Übersicht!B12=0,\"\",Übersicht!B12)","v":""},{"$f":"IF(Übersicht!C12=\"X\",\"Anzahl?\",0)","v":0},{"$f":"IF(Übersicht!D12=\"X\",\"Anzahl?\",0)","v":0},{"$f":"IF(AND(ISNUMBER(C12),C12>1),\"JA\",\"NEIN\")","v":"NEIN"},{"$f":"IF(Übersicht!E12=\"X\",\"Anzahl?\",0)","v":0},{"$f":"IF(Übersicht!F12=\"X\",\"Anzahl?\",0)","v":0},{"$f":"IF(Übersicht!G12=\"X\",\"Anzahl?\",0)","v":0},{"$f":"IF(Übersicht!H12=\"X\",\"Anzahl?\",0)","v":0}]
[{"$f":"IF(Übersicht!B13=0,\"\",Übersicht!B13)","v":""},{"$f":"IF(Übersicht!C13=\"X\",\"Anzahl?\",0)","v":0},{"$f":"IF(Übersicht!D13=\"X\",\"Anzahl?\",0)","v":0},"NEIN",{"$f":"IF(Übersicht!E13=\"X\",\"Anzahl?\",0)","v":0},{"$f":"IF(Übersicht!F13=\"X\",\"Anzahl?\",0)","v":0},{"$f":"IF(Übersicht!G13=\"X\",\"Anzahl?\",0)","v":0},{"$f":"IF(Übersicht!H13=\"X\",\"Anzahl?\",0)","v":0}]
[{"$f":"IF(Übersicht!B14=0,\"\",Übersicht!B14)","v":""},{"$f":"IF(Übersicht!C14=\"X\",\"Anzahl?\",0)","v":0},{"$f":"IF(Übersicht!D14=\"X\",\"Anzahl?\",0)","v":0},"NEIN",{"$f":"IF(Übersicht!E14=\"X\",\"Anzahl?\",0)","v":0},{"$f":"IF(Übersicht!F14=\"X\",\"Anzahl?\",0)","v":0},{"$f":"IF(Übersicht!G14=\"X\",\"Anzahl?\",0)","v":0},{"$f":"IF(Übersicht!H14=\"X\",\"Anzahl?\",0)","v":0}]
[{"$f":"IF(Übersicht!B15=0,\"\",Übersicht!B15)","v":""},{"$f":"IF(Übersicht!C15=\"X\",\"Anzahl?\",0)","v":0},{"$f":"IF(Übersicht!D15=\"X\",\"Anzahl?\",0)","v":0},"NEIN",{"$f":"IF(Übersicht!E15=\"X\",\"Anzahl?\",0)","v":0},{"$f":"IF(Übersicht!F15=\"X\",\"Anzahl?\",0)","v":0},{"$f":"IF(Übersicht!G15=\"X\",\"Anzahl?\",0)","v":0},{"$f":"IF(Übersicht!H15=\"X\",\"Anzahl?\",0)","v":0}]
[{"$f":"IF(Übersicht!B16=0,\"\",Übersicht!B16)","v":""},{"$f":"IF(Übersicht!C16=\"X\",\"Anzahl?\",0)","v":0},{"$f":"IF(Übersicht!D16=\"X\",\"Anzahl?\",0)","v":0},"NEIN",{"$f":"IF(Übersicht!E16=\"X\",\"Anzahl?\",0)","v":0},{"$f":"IF(Übersicht!F16=\"X\",\"Anzahl?\",0)","v":0},{"$f":"IF(Übersicht!G16=\"X\",\"Anzahl?\",0)","v":0},{"$f":"IF(Übersicht!H16=\"X\",\"Anzahl?\",0)","v":0}]
[{"$f":"IF(Übersicht!B17=0,\"\",Übersicht!B17)","v":""},{"$f":"IF(Übersicht!C17=\"X\",\"Anzahl?\",0)","v":0},{"$f":"IF(Übersicht!D17=\"X\",\"Anzahl?\",0)","v":0},"NEIN",{"$f":"IF(Übersicht!E17=\"X\",\"Anzahl?\",0)","v":0},{"$f":"IF(Übersicht!F17=\"X\",\"Anzahl?\",0)","v":0},{"$f":"IF(Übersicht!G17=\"X\",\"Anzahl?\",0)","v":0},{"$f":"IF(Übersicht!H17=\"X\",\"Anzahl?\",0)","v":0}]
[{"$f":"IF(Übersicht!B18=0,\"\",Übersicht!B18)","v":""},{"$f":"IF(Übersicht!C18=\"X\",\"Anzahl?\",0)","v":0},{"$f":"IF(Übersicht!D18=\"X\",\"Anzahl?\",0)","v":0},"NEIN",{"$f":"IF(Übersicht!E18=\"X\",\"Anzahl?\",0)","v":0},{"$f":"IF(Übersicht!F18=\"X\",\"Anzahl?\",0)","v":0},{"$f":"IF(Übersicht!G18=\"X\",\"Anzahl?\",0)","v":0},{"$f":"IF(Übersicht!H18=\"X\",\"Anzahl?\",0)","v":0}]
[{"$f":"IF(Übersicht!B19=0,\"\",Übersicht!B19)","v":""},{"$f":"IF(Übersicht!C19=\"X\",\"Anzahl?\",0)","v":0},{"$f":"IF(Übersicht!D19=\"X\",\"Anzahl?\",0)","v":0},"NEIN",{"$f":"IF(Übersicht!E19=\"X\",\"Anzahl?\",0)","v":0},{"$f":"IF(Übersicht!F19=\"X\",\"Anzahl?\",0)","v":0},{"$f":"IF(Übersicht!G19=\"X\",\"Anzahl?\",0)","v":0},{"$f":"IF(Übersicht!H19=\"X\",\"Anzahl?\",0)","v":0}]
[{"$f":"IF(Übersicht!B20=0,\"\",Übersicht!B20)","v":""},{"$f":"IF(Übersicht!C20=\"X\",\"Anzahl?\",0)","v":0},{"$f":"IF(Übersicht!D20=\"X\",\"Anzahl?\",0)","v":0},"NEIN",{"$f":"IF(Übersicht!E20=\"X\",\"Anzahl?\",0)","v":0},{"$f":"IF(Übersicht!F20=\"X\",\"Anzahl?\",0)","v":0},{"$f":"IF(Übersicht!G20=\"X\",\"Anzahl?\",0)","v":0},{"$f":"IF(Übersicht!H20=\"X\",\"Anzahl?\",0)","v":0}]
[{"$f":"IF(Übersicht!B21=0,\"\",Übersicht!B21)","v":""},{"$f":"IF(Übersicht!C21=\"X\",\"Anzahl?\",0)","v":0},{"$f":"IF(Übersicht!D21=\"X\",\"Anzahl?\",0)","v":0},"NEIN",{"$f":"IF(Übersicht!E21=\"X\",\"Anzahl?\",0)","v":0},{"$f":"IF(Übersicht!F21=\"X\",\"Anzahl?\",0)","v":0},{"$f":"IF(Übersicht!G21=\"X\",\"Anzahl?\",0)","v":0},{"$f":"IF(Übersicht!H21=\"X\",\"Anzahl?\",0)","v":0}]
[{"$f":"IF(Übersicht!B22=0,\"\",Übersicht!B22)","v":""},{"$f":"IF(Übersicht!C22=\"X\",\"Anzahl?\",0)","v":0},{"$f":"IF(Übersicht!D22=\"X\",\"Anzahl?\",0)","v":0},"NEIN",{"$f":"IF(Übersicht!E22=\"X\",\"Anzahl?\",0)","v":0},{"$f":"IF(Übersicht!F22=\"X\",\"Anzahl?\",0)","v":0},{"$f":"IF(Übersicht!G22=\"X\",\"Anzahl?\",0)","v":0},{"$f":"IF(Übersicht!H22=\"X\",\"Anzahl?\",0)","v":0}]
[{"$f":"IF(Übersicht!B23=0,\"\",Übersicht!B23)","v":""},{"$f":"IF(Übersicht!C23=\"X\",\"Anzahl?\",0)","v":0},{"$f":"IF(Übersicht!D23=\"X\",\"Anzahl?\",0)","v":0},"NEIN",{"$f":"IF(Übersicht!E23=\"X\",\"Anzahl?\",0)","v":0},{"$f":"IF(Übersicht!F23=\"X\",\"Anzahl?\",0)","v":0},{"$f":"IF(Übersicht!G23=\"X\",\"Anzahl?\",0)","v":0},{"$f":"IF(Übersicht!H23=\"X\",\"Anzahl?\",0)","v":0}]
[{"$f":"IF(Übersicht!B24=0,\"\",Übersicht!B24)","v":""},{"$f":"IF(Übersicht!C24=\"X\",\"Anzahl?\",0)","v":0},{"$f":"IF(Übersicht!D24=\"X\",\"Anzahl?\",0)","v":0},"NEIN",{"$f":"IF(Übersicht!E24=\"X\",\"Anzahl?\",0)","v":0},{"$f":"IF(Übersicht!F24=\"X\",\"Anzahl?\",0)","v":0},{"$f":"IF(Übersicht!G24=\"X\",\"Anzahl?\",0)","v":0},{"$f":"IF(Übersicht!H24=\"X\",\"Anzahl?\",0)","v":0}]
[{"$f":"IF(Übersicht!B25=0,\"\",Übersicht!B25)","v":""},{"$f":"IF(Übersicht!C25=\"X\",\"Anzahl?\",0)","v":0},{"$f":"IF(Übersicht!D25=\"X\",\"Anzahl?\",0)","v":0},"NEIN",{"$f":"IF(Übersicht!E25=\"X\",\"Anzahl?\",0)","v":0},{"$f":"IF(Übersicht!F25=\"X\",\"Anzahl?\",0)","v":0},{"$f":"IF(Übersicht!G25=\"X\",\"Anzahl?\",0)","v":0},{"$f":"IF(Übersicht!H25=\"X\",\"Anzahl?\",0)","v":0}]
[{"$f":"IF(Übersicht!B26=0,\"\",Übersicht!B26)","v":""},{"$f":"IF(Übersicht!C26=\"X\",\"Anzahl?\",0)","v":0},{"$f":"IF(Übersicht!D26=\"X\",\"Anzahl?\",0)","v":0},"NEIN",{"$f":"IF(Übersicht!E26=\"X\",\"Anzahl?\",0)","v":0},{"$f":"IF(Übersicht!F26=\"X\",\"Anzahl?\",0)","v":0},{"$f":"IF(Übersicht!G26=\"X\",\"Anzahl?\",0)","v":0},{"$f":"IF(Übersicht!H26=\"X\",\"Anzahl?\",0)","v":0}]
[{"$f":"IF(Übersicht!B27=0,\"\",Übersicht!B27)","v":""},{"$f":"IF(Übersicht!C27=\"X\",\"Anzahl?\",0)","v":0},{"$f":"IF(Übersicht!D27=\"X\",\"Anzahl?\",0)","v":0},"NEIN",{"$f":"IF(Übersicht!E27=\"X\",\"Anzahl?\",0)","v":0},{"$f":"IF(Übersicht!F27=\"X\",\"Anzahl?\",0)","v":0},{"$f":"IF(Übersicht!G27=\"X\",\"Anzahl?\",0)","v":0},{"$f":"IF(Übersicht!H27=\"X\",\"Anzahl?\",0)","v":0}]
[{"$f":"IF(Übersicht!B28=0,\"\",Übersicht!B28)","v":""},{"$f":"IF(Übersicht!C28=\"X\",\"Anzahl?\",0)","v":0},{"$f":"IF(Übersicht!D28=\"X\",\"Anzahl?\",0)","v":0},"NEIN",{"$f":"IF(Übersicht!E28=\"X\",\"Anzahl?\",0)","v":0},{"$f":"IF(Übersicht!F28=\"X\",\"Anzahl?\",0)","v":0},{"$f":"IF(Übersicht!G28=\"X\",\"Anzahl?\",0)","v":0},{"$f":"IF(Übersicht!H28=\"X\",\"Anzahl?\",0)","v":0}]
[{"$f":"IF(Übersicht!B29=0,\"\",Übersicht!B29)","v":""},{"$f":"IF(Übersicht!C29=\"X\",\"Anzahl?\",0)","v":0},{"$f":"IF(Übersicht!D29=\"X\",\"Anzahl?\",0)","v":0},"NEIN",{"$f":"IF(Übersicht!E29=\"X\",\"Anzahl?\",0)","v":0},{"$f":"IF(Übersicht!F29=\"X\",\"Anzahl?\",0)","v":0},{"$f":"IF(Übersicht!G29=\"X\",\"Anzahl?\",0)","v":0},{"$f":"IF(Übersicht!H29=\"X\",\"Anzahl?\",0)","v":0}]
[{"$f":"IF(Übersicht!B30=0,\"\",Übersicht!B30)","v":""},{"$f":"IF(Übersicht!C30=\"X\",\"Anzahl?\",0)","v":0},{"$f":"IF(Übersicht!D30=\"X\",\"Anzahl?\",0)","v":0},"NEIN",{"$f":"IF(Übersicht!E30=\"X\",\"Anzahl?\",0)","v":0},{"$f":"IF(Übersicht!F30=\"X\",\"Anzahl?\",0)","v":0},{"$f":"IF(Übersicht!G30=\"X\",\"Anzahl?\",0)","v":0},{"$f":"IF(Übersicht!H30=\"X\",\"Anzahl?\",0)","v":0}]

{"sheet":"Berechnung","index":2,"n_rows":34,"n_cols":9,"rows_kept":34}
["Homematic IP Projekt"]
[]
["Name:","Holube",null,null,"Cloud LAN:",{"v":49.95,"d":"49.95 €"}]
["Straße, Nr:","Am Hollmoor 23",null,null,"Cloud WLAN:",{"v":49.95,"d":"49.95 €"}]
["PLZ, Ort:","29633 Munster",null,null,"Computer:",{"v":149.95,"d":"149.95 €"}]
["Telefon:","05192/886526",null,null,"Sirene",{"v":119.95,"d":"119.95 €"}]
["Email:","holube@freenet.de"]
[]
["Einzelpreis:",{"v":29.95,"d":"29.95 €"},{"v":49.95,"d":"49.95 €"},{"v":49.95,"d":"49.95 €"},{"v":59.95,"d":"59.95 €"},{"v":69.95,"d":"69.95 €"},{"v":49.95,"d":"49.95 €"},{"v":42.9,"d":"42.90 €"}]
["Räume:","Fenster / Tür","Heizkörper","A >16m² / verbaut","Rauchmelder","Rollo","Steckdosen","Licht"]
[{"$f":"IF(Übersicht!B11=0,\"\",Übersicht!B11)","v":""},{"$f":"Berechnung!$B$9*Einzelräume!B11","v":0},{"$f":"Berechnung!$C$9*Einzelräume!C11","v":0},{"$f":"IF(Übersicht!D11=\"JA\",Berechnung!$D$9,0)","v":0},{"$f":"Berechnung!$E$9*Einzelräume!E11","v":0},{"$f":"Berechnung!$F$9*Einzelräume!F11","v":0},{"$f":"Berechnung!$G$9*Einzelräume!G11","v":0},{"$f":"Berechnung!$H$9*Einzelräume!H11","v":0}]
[{"$f":"IF(Übersicht!B12=0,\"\",Übersicht!B12)","v":""},{"$f":"Berechnung!$B$9*Einzelräume!B12","v":0},{"$f":"Berechnung!$C$9*Einzelräume!C12","v":0},{"$f":"IF(Übersicht!D12=\"JA\",Berechnung!$D$9,0)","v":0},{"$f":"Berechnung!$E$9*Einzelräume!E12","v":0},{"$f":"Berechnung!$F$9*Einzelräume!F12","v":0},{"$f":"Berechnung!$G$9*Einzelräume!G12","v":0},{"$f":"Berechnung!$H$9*Einzelräume!H12","v":0}]
[{"$f":"IF(Übersicht!B13=0,\"\",Übersicht!B13)","v":""},{"$f":"Berechnung!$B$9*Einzelräume!B13","v":0},{"$f":"Berechnung!$C$9*Einzelräume!C13","v":0},{"$f":"IF(Übersicht!D13=\"JA\",Berechnung!$D$9,0)","v":0},{"$f":"Berechnung!$E$9*Einzelräume!E13","v":0},{"$f":"Berechnung!$F$9*Einzelräume!F13","v":0},{"$f":"Berechnung!$G$9*Einzelräume!G13","v":0},{"$f":"Berechnung!$H$9*Einzelräume!H13","v":0}]
[{"$f":"IF(Übersicht!B14=0,\"\",Übersicht!B14)","v":""},{"$f":"Berechnung!$B$9*Einzelräume!B14","v":0},{"$f":"Berechnung!$C$9*Einzelräume!C14","v":0},{"$f":"IF(Übersicht!D14=\"JA\",Berechnung!$D$9,0)","v":0},{"$f":"Berechnung!$E$9*Einzelräume!E14","v":0},{"$f":"Berechnung!$F$9*Einzelräume!F14","v":0},{"$f":"Berechnung!$G$9*Einzelräume!G14","v":0},{"$f":"Berechnung!$H$9*Einzelräume!H14","v":0}]
[{"$f":"IF(Übersicht!B15=0,\"\",Übersicht!B15)","v":""},{"$f":"Berechnung!$B$9*Einzelräume!B15","v":0},{"$f":"Berechnung!$C$9*Einzelräume!C15","v":0},{"$f":"IF(Übersicht!D15=\"JA\",Berechnung!$D$9,0)","v":0},{"$f":"Berechnung!$E$9*Einzelräume!E15","v":0},{"$f":"Berechnung!$F$9*Einzelräume!F15","v":0},{"$f":"Berechnung!$G$9*Einzelräume!G15","v":0},{"$f":"Berechnung!$H$9*Einzelräume!H15","v":0}]
[{"$f":"IF(Übersicht!B16=0,\"\",Übersicht!B16)","v":""},{"$f":"Berechnung!$B$9*Einzelräume!B16","v":0},{"$f":"Berechnung!$C$9*Einzelräume!C16","v":0},{"$f":"IF(Übersicht!D16=\"JA\",Berechnung!$D$9,0)","v":0},{"$f":"Berechnung!$E$9*Einzelräume!E16","v":0},{"$f":"Berechnung!$F$9*Einzelräume!F16","v":0},{"$f":"Berechnung!$G$9*Einzelräume!G16","v":0},{"$f":"Berechnung!$H$9*Einzelräume!H16","v":0}]
[{"$f":"IF(Übersicht!B17=0,\"\",Übersicht!B17)","v":""},{"$f":"Berechnung!$B$9*Einzelräume!B17","v":0},{"$f":"Berechnung!$C$9*Einzelräume!C17","v":0},{"$f":"IF(Übersicht!D17=\"JA\",Berechnung!$D$9,0)","v":0},{"$f":"Berechnung!$E$9*Einzelräume!E17","v":0},{"$f":"Berechnung!$F$9*Einzelräume!F17","v":0},{"$f":"Berechnung!$G$9*Einzelräume!G17","v":0},{"$f":"Berechnung!$H$9*Einzelräume!H17","v":0}]
[{"$f":"IF(Übersicht!B18=0,\"\",Übersicht!B18)","v":""},{"$f":"Berechnung!$B$9*Einzelräume!B18","v":0},{"$f":"Berechnung!$C$9*Einzelräume!C18","v":0},{"$f":"IF(Übersicht!D18=\"JA\",Berechnung!$D$9,0)","v":0},{"$f":"Berechnung!$E$9*Einzelräume!E18","v":0},{"$f":"Berechnung!$F$9*Einzelräume!F18","v":0},{"$f":"Berechnung!$G$9*Einzelräume!G18","v":0},{"$f":"Berechnung!$H$9*Einzelräume!H18","v":0}]
[{"$f":"IF(Übersicht!B19=0,\"\",Übersicht!B19)","v":""},{"$f":"Berechnung!$B$9*Einzelräume!B19","v":0},{"$f":"Berechnung!$C$9*Einzelräume!C19","v":0},{"$f":"IF(Übersicht!D19=\"JA\",Berechnung!$D$9,0)","v":0},{"$f":"Berechnung!$E$9*Einzelräume!E19","v":0},{"$f":"Berechnung!$F$9*Einzelräume!F19","v":0},{"$f":"Berechnung!$G$9*Einzelräume!G19","v":0},{"$f":"Berechnung!$H$9*Einzelräume!H19","v":0}]
[{"$f":"IF(Übersicht!B20=0,\"\",Übersicht!B20)","v":""},{"$f":"Berechnung!$B$9*Einzelräume!B20","v":0},{"$f":"Berechnung!$C$9*Einzelräume!C20","v":0},{"$f":"IF(Übersicht!D20=\"JA\",Berechnung!$D$9,0)","v":0},{"$f":"Berechnung!$E$9*Einzelräume!E20","v":0},{"$f":"Berechnung!$F$9*Einzelräume!F20","v":0},{"$f":"Berechnung!$G$9*Einzelräume!G20","v":0},{"$f":"Berechnung!$H$9*Einzelräume!H20","v":0}]
[{"$f":"IF(Übersicht!B21=0,\"\",Übersicht!B21)","v":""},{"$f":"Berechnung!$B$9*Einzelräume!B21","v":0},{"$f":"Berechnung!$C$9*Einzelräume!C21","v":0},{"$f":"IF(Übersicht!D21=\"JA\",Berechnung!$D$9,0)","v":0},{"$f":"Berechnung!$E$9*Einzelräume!E21","v":0},{"$f":"Berechnung!$F$9*Einzelräume!F21","v":0},{"$f":"Berechnung!$G$9*Einzelräume!G21","v":0},{"$f":"Berechnung!$H$9*Einzelräume!H21","v":0}]
[{"$f":"IF(Übersicht!B22=0,\"\",Übersicht!B22)","v":""},{"$f":"Berechnung!$B$9*Einzelräume!B22","v":0},{"$f":"Berechnung!$C$9*Einzelräume!C22","v":0},{"$f":"IF(Übersicht!D22=\"JA\",Berechnung!$D$9,0)","v":0},{"$f":"Berechnung!$E$9*Einzelräume!E22","v":0},{"$f":"Berechnung!$F$9*Einzelräume!F22","v":0},{"$f":"Berechnung!$G$9*Einzelräume!G22","v":0},{"$f":"Berechnung!$H$9*Einzelräume!H22","v":0}]
[{"$f":"IF(Übersicht!B23=0,\"\",Übersicht!B23)","v":""},{"$f":"Berechnung!$B$9*Einzelräume!B23","v":0},{"$f":"Berechnung!$C$9*Einzelräume!C23","v":0},{"$f":"IF(Übersicht!D23=\"JA\",Berechnung!$D$9,0)","v":0},{"$f":"Berechnung!$E$9*Einzelräume!E23","v":0},{"$f":"Berechnung!$F$9*Einzelräume!F23","v":0},{"$f":"Berechnung!$G$9*Einzelräume!G23","v":0},{"$f":"Berechnung!$H$9*Einzelräume!H23","v":0}]
[{"$f":"IF(Übersicht!B24=0,\"\",Übersicht!B24)","v":""},{"$f":"Berechnung!$B$9*Einzelräume!B24","v":0},{"$f":"Berechnung!$C$9*Einzelräume!C24","v":0},{"$f":"IF(Übersicht!D24=\"JA\",Berechnung!$D$9,0)","v":0},{"$f":"Berechnung!$E$9*Einzelräume!E24","v":0},{"$f":"Berechnung!$F$9*Einzelräume!F24","v":0},{"$f":"Berechnung!$G$9*Einzelräume!G24","v":0},{"$f":"Berechnung!$H$9*Einzelräume!H24","v":0}]
[{"$f":"IF(Übersicht!B25=0,\"\",Übersicht!B25)","v":""},{"$f":"Berechnung!$B$9*Einzelräume!B25","v":0},{"$f":"Berechnung!$C$9*Einzelräume!C25","v":0},{"$f":"IF(Übersicht!D25=\"JA\",Berechnung!$D$9,0)","v":0},{"$f":"Berechnung!$E$9*Einzelräume!E25","v":0},{"$f":"Berechnung!$F$9*Einzelräume!F25","v":0},{"$f":"Berechnung!$G$9*Einzelräume!G25","v":0},{"$f":"Berechnung!$H$9*Einzelräume!H25","v":0}]
[{"$f":"IF(Übersicht!B26=0,\"\",Übersicht!B26)","v":""},{"$f":"Berechnung!$B$9*Einzelräume!B26","v":0},{"$f":"Berechnung!$C$9*Einzelräume!C26","v":0},{"$f":"IF(Übersicht!D26=\"JA\",Berechnung!$D$9,0)","v":0},{"$f":"Berechnung!$E$9*Einzelräume!E26","v":0},{"$f":"Berechnung!$F$9*Einzelräume!F26","v":0},{"$f":"Berechnung!$G$9*Einzelräume!G26","v":0},{"$f":"Berechnung!$H$9*Einzelräume!H26","v":0}]
[{"$f":"IF(Übersicht!B27=0,\"\",Übersicht!B27)","v":""},{"$f":"Berechnung!$B$9*Einzelräume!B27","v":0},{"$f":"Berechnung!$C$9*Einzelräume!C27","v":0},{"$f":"IF(Übersicht!D27=\"JA\",Berechnung!$D$9,0)","v":0},{"$f":"Berechnung!$E$9*Einzelräume!E27","v":0},{"$f":"Berechnung!$F$9*Einzelräume!F27","v":0},{"$f":"Berechnung!$G$9*Einzelräume!G27","v":0},{"$f":"Berechnung!$H$9*Einzelräume!H27","v":0}]
[{"$f":"IF(Übersicht!B28=0,\"\",Übersicht!B28)","v":""},{"$f":"Berechnung!$B$9*Einzelräume!B28","v":0},{"$f":"Berechnung!$C$9*Einzelräume!C28","v":0},{"$f":"IF(Übersicht!D28=\"JA\",Berechnung!$D$9,0)","v":0},{"$f":"Berechnung!$E$9*Einzelräume!E28","v":0},{"$f":"Berechnung!$F$9*Einzelräume!F28","v":0},{"$f":"Berechnung!$G$9*Einzelräume!G28","v":0},{"$f":"Berechnung!$H$9*Einzelräume!H28","v":0}]
[{"$f":"IF(Übersicht!B29=0,\"\",Übersicht!B29)","v":""},{"$f":"Berechnung!$B$9*Einzelräume!B29","v":0},{"$f":"Berechnung!$C$9*Einzelräume!C29","v":0},{"$f":"IF(Übersicht!D29=\"JA\",Berechnung!$D$9,0)","v":0},{"$f":"Berechnung!$E$9*Einzelräume!E29","v":0},{"$f":"Berechnung!$F$9*Einzelräume!F29","v":0},{"$f":"Berechnung!$G$9*Einzelräume!G29","v":0},{"$f":"Berechnung!$H$9*Einzelräume!H29","v":0}]
[{"$f":"IF(Übersicht!B30=0,\"\",Übersicht!B30)","v":""},{"$f":"Berechnung!$B$9*Einzelräume!B30","v":0},{"$f":"Berechnung!$C$9*Einzelräume!C30","v":0},{"$f":"IF(Übersicht!D30=\"JA\",Berechnung!$D$9,0)","v":0},{"$f":"Berechnung!$E$9*Einzelräume!E30","v":0},{"$f":"Berechnung!$F$9*Einzelräume!F30","v":0},{"$f":"Berechnung!$G$9*Einzelräume!G30","v":0},{"$f":"Berechnung!$H$9*Einzelräume!H30","v":0}]
[]
["Summe:",{"$f":"SUM(B28:B31)","v":0},{"$f":"SUM(C28:C31)","v":0},0,0,0,0,0,{"$f":"SUM(B32:H32)","v":0}]
["Zentrale",{"$nulls":7},{"$f":"IF(OR(Übersicht!F3=\"JA\",Übersicht!F4=\"JA\"),Berechnung!F3,0)","v":49.95}]
["Alarmgeber:",{"$nulls":7},{"$f":"IF(Übersicht!D3=\"JA\",Berechnung!F6,0)","v":119.95}]